BEGIN:VCALENDAR
VERSION:2.0
PRODID:-//81.19.159.12//NONSGML kigkonsult.se iCalcreator 2.20//
CALSCALE:GREGORIAN
METHOD:PUBLISH
X-WR-TIMEZONE:Europe/Vienna
BEGIN:VEVENT
UID:event231@Steinhauser Oldtimerfreunde
DTSTAMP:20260420T085852Z
CATEGORIES:Ausfahrten
DESCRIPTION:Oldtimertreffen\nKategorie: Ausfahrten\nICS-Link: https://www.s
 teinhauser-oldtimerfreunde.at/index.php?option=com_jem&view=event&id=231:o
 ldtimertreffen\n
DTSTART;TZID=Europe/Vienna:20230709T100000
DTEND;TZID=Europe/Vienna:20230709T100000
LOCATION:Wels\,Messegelände
SUMMARY:Oldtimertreffen
URL:https://www.steinhauser-oldtimerfreunde.at/index.php?option=com_jem&vie
 w=event&id=231:oldtimertreffen
END:VEVENT
END:VCALENDAR
