BEGIN:VCALENDAR
VERSION:2.0
PRODID:-//81.19.159.12//NONSGML kigkonsult.se iCalcreator 2.20//
CALSCALE:GREGORIAN
METHOD:PUBLISH
X-WR-TIMEZONE:Europe/Vienna
BEGIN:VEVENT
UID:event156@Steinhauser Oldtimerfreunde
DTSTAMP:20260420T021208Z
CATEGORIES:Ausfahrten
DESCRIPTION:Traktortreffen\nKategorie: Ausfahrten\nICS-Link: https://www.st
 einhauser-oldtimerfreunde.at/index.php?option=com_jem&view=event&id=156:tr
 aktortreffen\n
DTSTART;VALUE=DATE:20190908
DTEND;VALUE=DATE:20190909
LOCATION:Rottenbach\,Rottenbach
SUMMARY:Traktortreffen
URL:https://www.steinhauser-oldtimerfreunde.at/index.php?option=com_jem&vie
 w=event&id=156:traktortreffen
END:VEVENT
END:VCALENDAR
